BEGIN:VCALENDAR
VERSION:2.0
PRODID:-//Troy B Marden Travel - ECPv6.15.20//NONSGML v1.0//EN
CALSCALE:GREGORIAN
METHOD:PUBLISH
X-WR-CALNAME:Troy B Marden Travel
X-ORIGINAL-URL:https://troybmarden.com
X-WR-CALDESC:Events for Troy B Marden Travel
REFRESH-INTERVAL;VALUE=DURATION:PT1H
X-Robots-Tag:noindex
X-PUBLISHED-TTL:PT1H
BEGIN:VTIMEZONE
TZID:America/Chicago
BEGIN:DAYLIGHT
TZOFFSETFROM:-0600
TZOFFSETTO:-0500
TZNAME:CDT
DTSTART:20220313T080000
END:DAYLIGHT
BEGIN:STANDARD
TZOFFSETFROM:-0500
TZOFFSETTO:-0600
TZNAME:CST
DTSTART:20221106T070000
END:STANDARD
BEGIN:DAYLIGHT
TZOFFSETFROM:-0600
TZOFFSETTO:-0500
TZNAME:CDT
DTSTART:20230312T080000
END:DAYLIGHT
BEGIN:STANDARD
TZOFFSETFROM:-0500
TZOFFSETTO:-0600
TZNAME:CST
DTSTART:20231105T070000
END:STANDARD
BEGIN:DAYLIGHT
TZOFFSETFROM:-0600
TZOFFSETTO:-0500
TZNAME:CDT
DTSTART:20240310T080000
END:DAYLIGHT
BEGIN:STANDARD
TZOFFSETFROM:-0500
TZOFFSETTO:-0600
TZNAME:CST
DTSTART:20241103T070000
END:STANDARD
END:VTIMEZONE
BEGIN:VEVENT
DTSTART;VALUE=DATE:20231009
DTEND;VALUE=DATE:20231024
DTSTAMP:20260425T190542
CREATED:20230323T022758Z
LAST-MODIFIED:20230323T022758Z
UID:1227-1696809600-1698105599@troybmarden.com
SUMMARY:Wonders of the Italian Piedmont & French Riviera
DESCRIPTION:Travel with Jason Reeves and Troy Marden as we explore the gardens\, natural landscapes\, art\, food\, and architecture of two of the world’s most beautiful destinations–the Italian Piedmont and the French Riviera! Starting in Milan\, we will visit Lake Como and the surrounding area before moving on to the beautiful village of Stresa\, nestled into the foothills of the Italian Alps on the shores of Lago di Maggiore. There\, we will visit several gardens\, including the “garden islands” of Isola Madre and Isola Bella\, which occupy prominent positions in the center of the lake. Next\, it’s on to the city of Turin\, one of the most interesting cities in northern Italy with fabulous museums\, a not-to-be-missed (and we won’t!) Royal Palace\, and a food scene you must experience firsthand. Finally\, we make our way across the border to Nice\, France\, one of the Riviera’s most stunning destinations. We will use Nice as our home base for the final four nights of this two week tour\, exploring Monaco for a day\, visiting the gardens of the city of Menton\, experiencing the Villa Ephrussi de Rothschild in Cap Ferrat\, and much\, much more! \n$4\,950 per person\, based on double occupancy.  For a private room\, the single supplement is $1\,350. \nFor complete details\, please email troy@troybmarden.com
URL:https://troybmarden.com/event/wonders-of-the-italian-piedmont-french-riviera/
CATEGORIES:Piedmont Italy,Travel
ATTACH;FMTTYPE=image/jpeg:https://troybmarden.com/wp-content/uploads/2013/03/Monaco_Jardin_Exotique_de_Monaco_1.jpg
END:VEVENT
END:VCALENDAR