BEGIN:VCALENDAR
VERSION:2.0
PRODID:-//Troy B Marden Travel - ECPv6.15.20//NONSGML v1.0//EN
CALSCALE:GREGORIAN
METHOD:PUBLISH
X-WR-CALNAME:Troy B Marden Travel
X-ORIGINAL-URL:https://troybmarden.com
X-WR-CALDESC:Events for Troy B Marden Travel
REFRESH-INTERVAL;VALUE=DURATION:PT1H
X-Robots-Tag:noindex
X-PUBLISHED-TTL:PT1H
BEGIN:VTIMEZONE
TZID:America/Chicago
BEGIN:DAYLIGHT
TZOFFSETFROM:-0600
TZOFFSETTO:-0500
TZNAME:CDT
DTSTART:20240310T080000
END:DAYLIGHT
BEGIN:STANDARD
TZOFFSETFROM:-0500
TZOFFSETTO:-0600
TZNAME:CST
DTSTART:20241103T070000
END:STANDARD
BEGIN:DAYLIGHT
TZOFFSETFROM:-0600
TZOFFSETTO:-0500
TZNAME:CDT
DTSTART:20250309T080000
END:DAYLIGHT
BEGIN:STANDARD
TZOFFSETFROM:-0500
TZOFFSETTO:-0600
TZNAME:CST
DTSTART:20251102T070000
END:STANDARD
BEGIN:DAYLIGHT
TZOFFSETFROM:-0600
TZOFFSETTO:-0500
TZNAME:CDT
DTSTART:20260308T080000
END:DAYLIGHT
BEGIN:STANDARD
TZOFFSETFROM:-0500
TZOFFSETTO:-0600
TZNAME:CST
DTSTART:20261101T070000
END:STANDARD
END:VTIMEZONE
BEGIN:VEVENT
DTSTART;TZID=America/Chicago:20250303T000000
DTEND;TZID=America/Chicago:20250309T235959
DTSTAMP:20260424T134634
CREATED:20240729T191534Z
LAST-MODIFIED:20240731T165257Z
UID:1616-1740960000-1741564799@troybmarden.com
SUMMARY:Spring Fling in Mobile
DESCRIPTION:Jason Reeves and I are still figuring out the details\, but—similar to our 2024 tour to the Raleigh\, NC area—we are planning to offer a shorter “spring fling” sightseeing and shopping trip to the Mobile\, AL area in early March. The centerpieces of this tour will be a visit to Bellingrath Gardens and attendance at Mobile’s spring “Festival of Flowers”. \n\n\n\nWe’ll also include visits to at least one\, and probably two\, native pitcher plant bogs\, several nurseries and garden centers\, and an excursion to the beautiful town of Fairhope where locally owned shops\, antique stores\, and restaurants line the streets. Of course\, we’ll do our best through our friends and colleagues in the Mobile area to arrange visits to private gardens around Mobile Bay. Complete details and pricing for this tour will be available soon.
URL:https://troybmarden.com/event/spring-fling-in-mobile/
ATTACH;FMTTYPE=image/jpeg:https://troybmarden.com/wp-content/uploads/2024/07/Mobile_Bellingrath.jpg
END:VEVENT
END:VCALENDAR