BEGIN:VCALENDAR
VERSION:2.0
PRODID:-//Troy B Marden Travel - ECPv6.15.20//NONSGML v1.0//EN
CALSCALE:GREGORIAN
METHOD:PUBLISH
X-ORIGINAL-URL:https://troybmarden.com
X-WR-CALDESC:Events for Troy B Marden Travel
REFRESH-INTERVAL;VALUE=DURATION:PT1H
X-Robots-Tag:noindex
X-PUBLISHED-TTL:PT1H
BEGIN:VTIMEZONE
TZID:America/Chicago
BEGIN:DAYLIGHT
TZOFFSETFROM:-0600
TZOFFSETTO:-0500
TZNAME:CDT
DTSTART:20240310T080000
END:DAYLIGHT
BEGIN:STANDARD
TZOFFSETFROM:-0500
TZOFFSETTO:-0600
TZNAME:CST
DTSTART:20241103T070000
END:STANDARD
BEGIN:DAYLIGHT
TZOFFSETFROM:-0600
TZOFFSETTO:-0500
TZNAME:CDT
DTSTART:20250309T080000
END:DAYLIGHT
BEGIN:STANDARD
TZOFFSETFROM:-0500
TZOFFSETTO:-0600
TZNAME:CST
DTSTART:20251102T070000
END:STANDARD
BEGIN:DAYLIGHT
TZOFFSETFROM:-0600
TZOFFSETTO:-0500
TZNAME:CDT
DTSTART:20260308T080000
END:DAYLIGHT
BEGIN:STANDARD
TZOFFSETFROM:-0500
TZOFFSETTO:-0600
TZNAME:CST
DTSTART:20261101T070000
END:STANDARD
END:VTIMEZONE
BEGIN:VEVENT
DTSTART;TZID=America/Chicago:20250717T000000
DTEND;TZID=America/Chicago:20250728T235959
DTSTAMP:20260424T053926
CREATED:20240729T223024Z
LAST-MODIFIED:20241107T210501Z
UID:1650-1752710400-1753747199@troybmarden.com
SUMMARY:Jewels of the Emerald Isle
DESCRIPTION:Complete details for this tour are now available! Join me along with friends and colleagues Joseph & Shannon Hillenmeyer\, of Joseph Hillenmeyer Garden Design in Lexington\, Kentucky for a 5-star tour of Ireland\, the Emerald Isle!  We will fly into and out of Dublin\, exploring as much of the island as possible in the time we have\, including sites like Kylemore Abbey\, the Cliffs of Mohr\, the garden of Ilnacullin (Garnish Island)\, Powerscourt (plus the Powerscourt waterfall)\, Mount Congreve\, Ballynahinch Castle\, the private gardens of extraordinary brother and sister gardeners Jimi and June Blake\, and much\, much more! Along the way\, we will relax in the comfort of 5-star hotels in Killarney\, Galway\, and Dublin. We’ll dine in some of the finest restaurants and we’ll also experience the rustic pubs\, the farmhouse cheese\, and perhaps an Irish pint or two (or a little Irish whiskey)! Border collies rounding up sheep? Done! A one-of-a-kind birding experience at Ireland’s oldest school of falconry? Check! A visit to a private thoroughbred farm? We’re on it! If Ireland has been on your bucket list\, this is going to be a bucket list kind of tour! Don’t miss out! \n\n\n\nTo be advised when complete details become available\, please email troy@troybmarden.com
URL:https://troybmarden.com/event/jewels-of-the-emerald-isle/
ATTACH;FMTTYPE=image/jpeg:https://troybmarden.com/wp-content/uploads/2024/07/Ireland_Kylemore_Abbey.jpg
END:VEVENT
END:VCALENDAR