BEGIN:VCALENDAR
VERSION:2.0
PRODID:-//Troy B Marden Travel - ECPv6.15.20//NONSGML v1.0//EN
CALSCALE:GREGORIAN
METHOD:PUBLISH
X-ORIGINAL-URL:https://troybmarden.com
X-WR-CALDESC:Events for Troy B Marden Travel
REFRESH-INTERVAL;VALUE=DURATION:PT1H
X-Robots-Tag:noindex
X-PUBLISHED-TTL:PT1H
BEGIN:VTIMEZONE
TZID:America/Chicago
BEGIN:DAYLIGHT
TZOFFSETFROM:-0600
TZOFFSETTO:-0500
TZNAME:CDT
DTSTART:20240310T080000
END:DAYLIGHT
BEGIN:STANDARD
TZOFFSETFROM:-0500
TZOFFSETTO:-0600
TZNAME:CST
DTSTART:20241103T070000
END:STANDARD
BEGIN:DAYLIGHT
TZOFFSETFROM:-0600
TZOFFSETTO:-0500
TZNAME:CDT
DTSTART:20250309T080000
END:DAYLIGHT
BEGIN:STANDARD
TZOFFSETFROM:-0500
TZOFFSETTO:-0600
TZNAME:CST
DTSTART:20251102T070000
END:STANDARD
BEGIN:DAYLIGHT
TZOFFSETFROM:-0600
TZOFFSETTO:-0500
TZNAME:CDT
DTSTART:20260308T080000
END:DAYLIGHT
BEGIN:STANDARD
TZOFFSETFROM:-0500
TZOFFSETTO:-0600
TZNAME:CST
DTSTART:20261101T070000
END:STANDARD
END:VTIMEZONE
BEGIN:VEVENT
DTSTART;TZID=America/Chicago:20250730T000000
DTEND;TZID=America/Chicago:20250814T235959
DTSTAMP:20260424T040400
CREATED:20240729T224844Z
LAST-MODIFIED:20250121T154258Z
UID:1655-1753833600-1755215999@troybmarden.com
SUMMARY:The Wonders of Africa--Tour #1!
DESCRIPTION:These tours will explore ALL of the wonders of Africa—history\, nature\, art\, food\, wine\, culture\, and of course\, gardens! From the roar of Victoria Falls to the roar of lions\, and from the tip of the Cape of Good Hope to the top of Table Mountain\, we’ll explore South Africa\, Botswana\, and Zimbabwe through the eyes of the locals as they show us their lands\, tell us their stories\, tempt us with their cuisine\, and treat us as friends. Included are your hotels\, daily breakfast\, transportation by private coach\, local tour guides throughout the tour\, all entry fees for sites and activities outlined in the final itinerary\, meals as specified in the final itinerary\, and all internal flights in the final tour itinerary (these are the flights within Africa\, after your arrival from the U.S.–international airfare from the U.S. is not included). Hotels are 4- and 5-star accommodations throughout the tour and include all group safari activities in Victoria Falls\, Chobe National Park\, and Kapama private reserve as noted in the final itinerary. These small group tours are limited to 10-12 participants each to ensure that we can provide each guest with the most personal experience possible. \n\n\n\nSome of the activities on this tour include: Two nights in Johannesburg–Regina Mundi church\, the Nelson Mandela House\, Soweto township\, the Apartheid Museum\, and lunch and dinner at traditional South African restaurants. Three nights at Victoria Falls Safari Lodge\, including a visit to Victoria Falls\, a sunset river cruise\, a village tour\, lunch at the Lookout Cafe\, and a Boma Dinner including traditional music and dance. Our stay at Victoria Falls will also include a daytrip to the extraordinary Chobe National Park for a game drive in the park\, lunch at the Chobe Lodge\, and a river cruise. Our three nights in Cape Town will find us visiting Table Mountain\, District Six Museum\, the world-renowned Kirstenbosch Gardens\, and more. We’ll also spend an incredible day out on the Cape of Good Hope\, beginning with an unforgettable motorcycle ride as sidecar passengers on vintage\, WW2 motorcycles. This excursion will take us along the seafront to Chapman’s Peak with a dropoff at Hout Bay for our Seal Island cruise. We will also visit the penguin colony at Boulders Beach and take the funicular to the summit of the Cape of Good Hope. Two nights in Franschhoek and wine country–Iconic wineries such as Babylonstoren\, Haute Cabriere\, and Bartinney will be part of our visit to this region of South Africa. We’ll also experience a top-of-the-line lunch at the Fairview Estate along with a master tasting of the estate’s wines. Stellenbosch will round out our visit to this area. We will end our tour with three nights at the extraordinary Kapama River Lodge\, where we will experience 5-star African hospitality at its very finest. Included in our “grand finale” are 3 meals daily\, morning and evening daily game drives/safaris\, an opportunity to do an optional bush walk to experience African wildlife in the most up close and personal way possible\, as well as some free time to enjoy the exceptional features of our spa resort. \n\n\n\nDouble Occupancy Price: $8\,950 per person\, ground package including internal flights within Africa. (International airfare from and returning to the U.S. is the responsibility of individual guests.) \n\n\n\nSingle Occupancy Price: $10\,600 per person\, ground package including internal flights within Africa. (International airfare from and returning to the U.S. is the responsibility of individual guests.) \n\n\n\nFor complete details about this once-in-a-lifetime tour to experience the Wonders of Africa\, please email troy@troybmarden.com
URL:https://troybmarden.com/event/the-wonders-of-africa-tour-1/
ATTACH;FMTTYPE=image/jpeg:https://troybmarden.com/wp-content/uploads/2024/07/Africa-1.jpg
END:VEVENT
END:VCALENDAR