BEGIN:VCALENDAR
VERSION:2.0
PRODID:-//Troy B Marden Travel - ECPv6.15.20//NONSGML v1.0//EN
CALSCALE:GREGORIAN
METHOD:PUBLISH
X-ORIGINAL-URL:https://troybmarden.com
X-WR-CALDESC:Events for Troy B Marden Travel
REFRESH-INTERVAL;VALUE=DURATION:PT1H
X-Robots-Tag:noindex
X-PUBLISHED-TTL:PT1H
BEGIN:VTIMEZONE
TZID:America/Chicago
BEGIN:DAYLIGHT
TZOFFSETFROM:-0600
TZOFFSETTO:-0500
TZNAME:CDT
DTSTART:20240310T080000
END:DAYLIGHT
BEGIN:STANDARD
TZOFFSETFROM:-0500
TZOFFSETTO:-0600
TZNAME:CST
DTSTART:20241103T070000
END:STANDARD
BEGIN:DAYLIGHT
TZOFFSETFROM:-0600
TZOFFSETTO:-0500
TZNAME:CDT
DTSTART:20250309T080000
END:DAYLIGHT
BEGIN:STANDARD
TZOFFSETFROM:-0500
TZOFFSETTO:-0600
TZNAME:CST
DTSTART:20251102T070000
END:STANDARD
BEGIN:DAYLIGHT
TZOFFSETFROM:-0600
TZOFFSETTO:-0500
TZNAME:CDT
DTSTART:20260308T080000
END:DAYLIGHT
BEGIN:STANDARD
TZOFFSETFROM:-0500
TZOFFSETTO:-0600
TZNAME:CST
DTSTART:20261101T070000
END:STANDARD
END:VTIMEZONE
BEGIN:VEVENT
DTSTART;TZID=America/Chicago:20251106T000000
DTEND;TZID=America/Chicago:20251120T235959
DTSTAMP:20260423T230827
CREATED:20240730T000413Z
LAST-MODIFIED:20250121T150224Z
UID:1671-1762387200-1763683199@troybmarden.com
SUMMARY:Japan--Cultural Masterpieces!
DESCRIPTION:Another joint venture with friend and colleague\, Charles Yurgalevitch. With Charles’ contacts in Japan from his tenure at the New York Botanic Garden\, and excellent assistance from a travel agency specializing in Japan and all it has to offer\, this will be a once-in-a-lifetime experience centered around the gardens and temples of Japan\, from Tokyo to Miyajima\, set in the peak of fall color season! \n\n\n\nIn addition to beautiful gardens and temples\, we will completely immerse ourselves in and experience the culture of this exceptional country; traditions and ceremonies going back hundreds of years\, cuisine unique to this island nation\, art that has influenced generations of other artists\, and much more will all be a part of this itinerary—truly something for everyone! \n\n\n\nPricing and details for this tour will be published approximately 12 months prior to the tour—once we are able to secure firm pricing on hotels and transportation. To be added to the list of interested guests\, please email troy@troybmarden.com
URL:https://troybmarden.com/event/japan-cultural-masterpieces/
ATTACH;FMTTYPE=image/webp:https://troybmarden.com/wp-content/uploads/2024/07/Daigo-Ji-Temple-scaled.webp
END:VEVENT
END:VCALENDAR