BEGIN:VCALENDAR
VERSION:2.0
PRODID:-//Troy B Marden Travel - ECPv6.15.20//NONSGML v1.0//EN
CALSCALE:GREGORIAN
METHOD:PUBLISH
X-WR-CALNAME:Troy B Marden Travel
X-ORIGINAL-URL:https://troybmarden.com
X-WR-CALDESC:Events for Troy B Marden Travel
REFRESH-INTERVAL;VALUE=DURATION:PT1H
X-Robots-Tag:noindex
X-PUBLISHED-TTL:PT1H
BEGIN:VTIMEZONE
TZID:America/Chicago
BEGIN:DAYLIGHT
TZOFFSETFROM:-0600
TZOFFSETTO:-0500
TZNAME:CDT
DTSTART:20180311T080000
END:DAYLIGHT
BEGIN:STANDARD
TZOFFSETFROM:-0500
TZOFFSETTO:-0600
TZNAME:CST
DTSTART:20181104T070000
END:STANDARD
BEGIN:DAYLIGHT
TZOFFSETFROM:-0600
TZOFFSETTO:-0500
TZNAME:CDT
DTSTART:20190310T080000
END:DAYLIGHT
BEGIN:STANDARD
TZOFFSETFROM:-0500
TZOFFSETTO:-0600
TZNAME:CST
DTSTART:20191103T070000
END:STANDARD
BEGIN:DAYLIGHT
TZOFFSETFROM:-0600
TZOFFSETTO:-0500
TZNAME:CDT
DTSTART:20200308T080000
END:DAYLIGHT
BEGIN:STANDARD
TZOFFSETFROM:-0500
TZOFFSETTO:-0600
TZNAME:CST
DTSTART:20201101T070000
END:STANDARD
BEGIN:DAYLIGHT
TZOFFSETFROM:-0600
TZOFFSETTO:-0500
TZNAME:CDT
DTSTART:20210314T080000
END:DAYLIGHT
BEGIN:STANDARD
TZOFFSETFROM:-0500
TZOFFSETTO:-0600
TZNAME:CST
DTSTART:20211107T070000
END:STANDARD
BEGIN:DAYLIGHT
TZOFFSETFROM:-0600
TZOFFSETTO:-0500
TZNAME:CDT
DTSTART:20220313T080000
END:DAYLIGHT
BEGIN:STANDARD
TZOFFSETFROM:-0500
TZOFFSETTO:-0600
TZNAME:CST
DTSTART:20221106T070000
END:STANDARD
BEGIN:DAYLIGHT
TZOFFSETFROM:-0600
TZOFFSETTO:-0500
TZNAME:CDT
DTSTART:20230312T080000
END:DAYLIGHT
BEGIN:STANDARD
TZOFFSETFROM:-0500
TZOFFSETTO:-0600
TZNAME:CST
DTSTART:20231105T070000
END:STANDARD
BEGIN:DAYLIGHT
TZOFFSETFROM:-0600
TZOFFSETTO:-0500
TZNAME:CDT
DTSTART:20240310T080000
END:DAYLIGHT
BEGIN:STANDARD
TZOFFSETFROM:-0500
TZOFFSETTO:-0600
TZNAME:CST
DTSTART:20241103T070000
END:STANDARD
BEGIN:DAYLIGHT
TZOFFSETFROM:-0600
TZOFFSETTO:-0500
TZNAME:CDT
DTSTART:20250309T080000
END:DAYLIGHT
BEGIN:STANDARD
TZOFFSETFROM:-0500
TZOFFSETTO:-0600
TZNAME:CST
DTSTART:20251102T070000
END:STANDARD
END:VTIMEZONE
BEGIN:VEVENT
DTSTART;VALUE=DATE:20240217
DTEND;VALUE=DATE:20240226
DTSTAMP:20260423T195757
CREATED:20230731T001332Z
LAST-MODIFIED:20230731T001332Z
UID:1239-1708128000-1708905599@troybmarden.com
SUMMARY:The Wonders of Winter--Snowdrops & Winter Gardens of England
DESCRIPTION:Winter may seem an unusual time for a garden tour to England\, but it is the only time to see one of the country’s greatest garden spectacles—the annual flowering of the snowdrops in woodlands\, gardens\, and estates throughout the countryside. For gardeners “in the know”\, snowdrops are one of the most popular bulbs amongst collectors around the world\, but the mania started with the collections in England\, Scotland\, and Ireland. While diminutive on their own\, collections begun a century or more ago now have bulbs numbering in the tens\, if not hundreds\, of thousands and the displays are some of the most impressive in the gardening world. \n \n  \nFor one week\, we’ll explore the best public and private collections of snowdrops from the Cotswolds to Yorkshire. For good measure\, we’ll include some visits to gardens and nurseries with impressive displays of hellebores\, witchhazel\, crocus\, and many other late winter and early spring flowering plants\, as well. A friend who is one of the world’s foremost authorities on snowdrops is kindly helping me curate our stops on this tour\, making it a truly unique and one-of-a-kind experience. \n \n  \nIn the Cotswolds\, we’ll use the beautiful town of Cheltenham as our home base\, eventually making our way north to York. Near Birmingham\, we’ll also include a visit to the world-renowned Ashwood Nurseries\, some of the original breeders of modern-day hellebores. Estates and gardens on the tour will include Colesbourne Park\, Kingston Bagpuize House & Garden\, Biddulph Grange\, Painswick Rococo Garden\, Millichope Park\, Castle Howard\, and many more. \nFor complete details\, please email:  troy@troybmarden.com
URL:https://troybmarden.com/event/the-wonders-of-winter-snowdrops-winter-gardens-of-england/
CATEGORIES:England,Travel
ATTACH;FMTTYPE=image/jpeg:https://troybmarden.com/wp-content/uploads/2023/07/Snowdrops-3.jpg
END:VEVENT
BEGIN:VEVENT
DTSTART;VALUE=DATE:20190701
DTEND;VALUE=DATE:20190713
DTSTAMP:20260423T195757
CREATED:20181211T203612Z
LAST-MODIFIED:20181211T203612Z
UID:957-1561939200-1562975999@troybmarden.com
SUMMARY:The Great Gardens of England
DESCRIPTION:If the greatest gardens of England are on your bucket list\, this is the tour for you!\nPlanned specifically at the request of some of my dearest gardening friends\, we are going to spend 10 full days on the ground visiting some of the most beautiful private and public gardens that England has to offer. Arriving in London\, we will be greeted by our private coach and head northeast to begin our tour at the world-famous Blooms of Bressingham and Beth Chatto Gardens. From there\, we will make our way back to Oxford to visit Blenheim Palace\, Rousham House\, and others. Next\, we’ll make our way through the Cotswolds\, visiting some of the most outstanding private gardens the region has to offer before making our way around to the southeast of London\, where we will stay at the spectacular Leeds Castle to visit Great Dixter\, Sissinghurst\, Iford Manor\, Hever Castle\, the RHS Garden at Wisley\, and so many more!  \nThe Great Gardens of England sites to include: Kew Gardens\, Blooms of Bressingham\, The Beth Chatto Gardens\, Blenheim Palace\, Rousham House\, private gardens of the Cotswolds\, Bourton House\, Iford Manor\, Leeds Castle\, Great Dixter\, Sissinghurst\, Hever Castle\, Penshurst Place\, the RHS Garden at Wisley\, and more!\nEmail me at troy@troybmarden.com for full details and to reserve your spot now! \n\nThe Great Gardens of England\nDate: July 1-12\, 2019\nPrice: $4\,450 per person\, double occupancy\, ground only\nSingle Supplement: $900\nAirfare: Not included\nDeposit: $1\,000 at time of booking + $900 Single Supplement\, if traveling singly.\nPayments: $1\,725 each on February 1\, 2019 and April 1\, 2019
URL:https://troybmarden.com/event/great-gardens-england/
CATEGORIES:England,Travel
ATTACH;FMTTYPE=image/jpeg:https://troybmarden.com/wp-content/uploads/2018/12/Great-Dixter-2opt.jpg
END:VEVENT
END:VCALENDAR