BEGIN:VCALENDAR
VERSION:2.0
PRODID:-//Troy B Marden Travel - ECPv6.15.20//NONSGML v1.0//EN
CALSCALE:GREGORIAN
METHOD:PUBLISH
X-WR-CALNAME:Troy B Marden Travel
X-ORIGINAL-URL:https://troybmarden.com
X-WR-CALDESC:Events for Troy B Marden Travel
REFRESH-INTERVAL;VALUE=DURATION:PT1H
X-Robots-Tag:noindex
X-PUBLISHED-TTL:PT1H
BEGIN:VTIMEZONE
TZID:America/Chicago
BEGIN:DAYLIGHT
TZOFFSETFROM:-0600
TZOFFSETTO:-0500
TZNAME:CDT
DTSTART:20210314T080000
END:DAYLIGHT
BEGIN:STANDARD
TZOFFSETFROM:-0500
TZOFFSETTO:-0600
TZNAME:CST
DTSTART:20211107T070000
END:STANDARD
BEGIN:DAYLIGHT
TZOFFSETFROM:-0600
TZOFFSETTO:-0500
TZNAME:CDT
DTSTART:20220313T080000
END:DAYLIGHT
BEGIN:STANDARD
TZOFFSETFROM:-0500
TZOFFSETTO:-0600
TZNAME:CST
DTSTART:20221106T070000
END:STANDARD
BEGIN:DAYLIGHT
TZOFFSETFROM:-0600
TZOFFSETTO:-0500
TZNAME:CDT
DTSTART:20230312T080000
END:DAYLIGHT
BEGIN:STANDARD
TZOFFSETFROM:-0500
TZOFFSETTO:-0600
TZNAME:CST
DTSTART:20231105T070000
END:STANDARD
END:VTIMEZONE
BEGIN:VEVENT
DTSTART;VALUE=DATE:20220810
DTEND;VALUE=DATE:20220825
DTSTAMP:20260423T200802
CREATED:20210625T140728Z
LAST-MODIFIED:20210625T140728Z
UID:1146-1660089600-1661385599@troybmarden.com
SUMMARY:Epic Ireland! 15 Days of Castles\, Gardens\, and Natural Wonders--August 10-24\, 2022
DESCRIPTION:Join me\, along with well-known horticulturist and garden guru\, Jason Reeves\, curator of the UT Garden at the University of Tennessee’s Jackson\, TN research station for an EPIC adventure through the most beautiful gardens of Ireland and Northern Ireland. Beginning and ending in Dublin\, we’ll make two complete loops through Ireland. The first\, west across central Ireland to Limerick\, south to Bantry Bay\, and finally back east to County Wicklow. Then\, we’ll head north to Belfast for three nights while we explore the wild and wonderful sights of the north country before heading back to Dublin for our return to the U.S. \nAlong the way\, we’ll see sights like the National Botanic Garden Glasnevin\, Heywood Gardens (part of which is an Edwin Lutyens/Gertrude Jekyll masterpiece)\, the city of Galway\, the cliffs of Moher\, Glin Castle and Gardens\, Bantry House & Gardens\, the private gardens of brother and sister gardeners Jimi and June Blake\, and much\, much more! On our journey north\, we’ll visit Tyrrelstown House & Garden\, Ardgillan Castle\, the Giant’s Causeway\, the Belfast Botanic Garden\, Mount Stewart and several other gardens and awe-inspiring sites along the way. \nFinally\, we will return to Dublin\, where you will have the opportunity to visit the Trinity College Library and the Book of Kells\, the illuminated manuscript of the four gospels of the Christian New Testament created around 800 AD and housed at Trinity since 1661. We will leave nary a stone unturned on this tour of Epic Ireland!
URL:https://troybmarden.com/event/epic-ireland-15-days-of-castles-gardens-and-natural-wonders-august-10-24-2022/
CATEGORIES:Ireland,Travel
ATTACH;FMTTYPE=image/jpeg:https://troybmarden.com/wp-content/uploads/2021/06/P6031328-scaled-1.jpg
END:VEVENT
END:VCALENDAR