BEGIN:VCALENDAR
VERSION:2.0
PRODID:-//Troy B Marden Travel - ECPv6.15.20//NONSGML v1.0//EN
CALSCALE:GREGORIAN
METHOD:PUBLISH
X-ORIGINAL-URL:https://troybmarden.com
X-WR-CALDESC:Events for Troy B Marden Travel
REFRESH-INTERVAL;VALUE=DURATION:PT1H
X-Robots-Tag:noindex
X-PUBLISHED-TTL:PT1H
BEGIN:VTIMEZONE
TZID:America/Chicago
BEGIN:DAYLIGHT
TZOFFSETFROM:-0600
TZOFFSETTO:-0500
TZNAME:CDT
DTSTART:20180311T080000
END:DAYLIGHT
BEGIN:STANDARD
TZOFFSETFROM:-0500
TZOFFSETTO:-0600
TZNAME:CST
DTSTART:20181104T070000
END:STANDARD
BEGIN:DAYLIGHT
TZOFFSETFROM:-0600
TZOFFSETTO:-0500
TZNAME:CDT
DTSTART:20190310T080000
END:DAYLIGHT
BEGIN:STANDARD
TZOFFSETFROM:-0500
TZOFFSETTO:-0600
TZNAME:CST
DTSTART:20191103T070000
END:STANDARD
BEGIN:DAYLIGHT
TZOFFSETFROM:-0600
TZOFFSETTO:-0500
TZNAME:CDT
DTSTART:20200308T080000
END:DAYLIGHT
BEGIN:STANDARD
TZOFFSETFROM:-0500
TZOFFSETTO:-0600
TZNAME:CST
DTSTART:20201101T070000
END:STANDARD
BEGIN:DAYLIGHT
TZOFFSETFROM:-0600
TZOFFSETTO:-0500
TZNAME:CDT
DTSTART:20210314T080000
END:DAYLIGHT
BEGIN:STANDARD
TZOFFSETFROM:-0500
TZOFFSETTO:-0600
TZNAME:CST
DTSTART:20211107T070000
END:STANDARD
BEGIN:DAYLIGHT
TZOFFSETFROM:-0600
TZOFFSETTO:-0500
TZNAME:CDT
DTSTART:20220313T080000
END:DAYLIGHT
BEGIN:STANDARD
TZOFFSETFROM:-0500
TZOFFSETTO:-0600
TZNAME:CST
DTSTART:20221106T070000
END:STANDARD
BEGIN:DAYLIGHT
TZOFFSETFROM:-0600
TZOFFSETTO:-0500
TZNAME:CDT
DTSTART:20230312T080000
END:DAYLIGHT
BEGIN:STANDARD
TZOFFSETFROM:-0500
TZOFFSETTO:-0600
TZNAME:CST
DTSTART:20231105T070000
END:STANDARD
BEGIN:DAYLIGHT
TZOFFSETFROM:-0600
TZOFFSETTO:-0500
TZNAME:CDT
DTSTART:20240310T080000
END:DAYLIGHT
BEGIN:STANDARD
TZOFFSETFROM:-0500
TZOFFSETTO:-0600
TZNAME:CST
DTSTART:20241103T070000
END:STANDARD
BEGIN:DAYLIGHT
TZOFFSETFROM:-0600
TZOFFSETTO:-0500
TZNAME:CDT
DTSTART:20250309T080000
END:DAYLIGHT
BEGIN:STANDARD
TZOFFSETFROM:-0500
TZOFFSETTO:-0600
TZNAME:CST
DTSTART:20251102T070000
END:STANDARD
END:VTIMEZONE
BEGIN:VEVENT
DTSTART;TZID=America/Chicago:20241009T000000
DTEND;TZID=America/Chicago:20241020T235959
DTSTAMP:20260423T180110
CREATED:20230806T172836Z
LAST-MODIFIED:20240717T024415Z
UID:1276-1728432000-1729468799@troybmarden.com
SUMMARY:Hill Towns of Tuscany
DESCRIPTION:For the first time since before the Covid pandemic\, we are returning to Tuscany! Autumn is the most beautiful time of year to enjoy the hill towns\, when crowds are smaller\, wine is being made\, olives are being harvested\, and restaurant menus are overflowing with local delicacies like chestnuts\, mushrooms (including the famous truffle!)\, and wild boar. \n\n\n\nWe’ll bookend this tour with visits to the beautiful cities of Rome and Florence\, taking in a few of the highlights of each. In between\, we’ll stay in Cortona and at least one other hill town (probably San Gimignano\, but we are awaiting hotel confirmation)\, and visit several more. \n\n\n\nAlong the way\, we’ll enjoy public and private villas\, palazzos\, and gardens\, including the Villa d’Este at Tivoli\, the Parco dei Mostri (Bomarzo)\, the Basilica of Assisi\, at least two wineries\, and an olive grove and press. \n\n\n\nIt is no secret that Italy\, and Tuscany in particular\, is my favorite place in the world. I look forward to sharing it with you! \n\n\n\nEmail troy@troybmarden.com for more information.
URL:https://troybmarden.com/event/hill-towns-of-tuscany/
CATEGORIES:Italy,Travel
ATTACH;FMTTYPE=image/webp:https://troybmarden.com/wp-content/uploads/2023/08/San-Gimignano-italy-blog-1.webp
ORGANIZER;CN="Troy B Marden Travel":MAILTO:troy@troybmarden.com
END:VEVENT
BEGIN:VEVENT
DTSTART;VALUE=DATE:20190910
DTEND;VALUE=DATE:20190922
DTSTAMP:20260423T180110
CREATED:20181211T172959Z
LAST-MODIFIED:20181211T172959Z
UID:965-1568073600-1569110399@troybmarden.com
SUMMARY:Bella Tuscany!
DESCRIPTION:In all of my travels\, there is no place that I love sharing more than I love sharing Italy. The food\, the art\, the architecture\, history\, people and\, of course\, the exceptional scenery and beautiful gardens. Italy has it all and September\, in my opinion\, is the very best time to be there—grape harvest wrapping up\, winemaking in earnest\, and olive harvest underway. Wild boar\, truffles\, and chestnuts are all in season with menus everywhere featuring these Tuscan delicacies. We’ll visit at least one very special winery in Chianti and hopefully a second in Montalcino. We’ll spend two nights in Rome at the beginning of the trip and see the highlights\, 5 nights in the hill towns of Tuscany\, and we’ll end the main part of the trip in Florence\, the birthplace of the Renaissance. From Florence\, you may either fly home to the U.S. or extend with us for a few more days to take in the stunning beauty of Como and its surroundings.  \nBella Tuscany! sites include: The Roman Forum\, Colosseum\, Trevi Fountain\, and other highlights of Rome. The Tuscan hill towns of Cortona\, San Gimignano\, Assisi\, Siena. Private palazzos and gardens across Tuscany. Michelangelo’s David\, the Medici Tombs\, Santa Maria del Fiore (with Brunelleschi’s dome) and Baptistry\, Ponte Vecchio\, Pitti Palace\, at least two private Florentine gardens\, and much\, much more!\nEmail me at troy@troybmarden.com for full details and to reserve your spot now! \n\nBella Tuscany!\nDate: September 10-21\, 2019\nGroup Size: Maximum 20 participants\nPrice: $4\,450 per person\, double occupancy\, ground only\nSingle Supplement: $1\,050 per person\nAirfare: Not included\nDeposit: $1\,000 at time of booking + $1\,050 Single Supplement\, if traveling singly.\nPayments: $1\,725 each by April 10\, 2019 and June 10\, 2019\nOptional Como Extension: $1\,350 per person\, double occupancy. Single Supplement: $450
URL:https://troybmarden.com/event/bella-tuscany/
CATEGORIES:Italy,Travel
ATTACH;FMTTYPE=image/jpeg:https://troybmarden.com/wp-content/uploads/2018/12/Italy.jpg
END:VEVENT
END:VCALENDAR