BEGIN:VCALENDAR
VERSION:2.0
PRODID:-//Troy B Marden Travel - ECPv6.15.20//NONSGML v1.0//EN
CALSCALE:GREGORIAN
METHOD:PUBLISH
X-ORIGINAL-URL:https://troybmarden.com
X-WR-CALDESC:Events for Troy B Marden Travel
REFRESH-INTERVAL;VALUE=DURATION:PT1H
X-Robots-Tag:noindex
X-PUBLISHED-TTL:PT1H
BEGIN:VTIMEZONE
TZID:America/Chicago
BEGIN:DAYLIGHT
TZOFFSETFROM:-0600
TZOFFSETTO:-0500
TZNAME:CDT
DTSTART:20210314T080000
END:DAYLIGHT
BEGIN:STANDARD
TZOFFSETFROM:-0500
TZOFFSETTO:-0600
TZNAME:CST
DTSTART:20211107T070000
END:STANDARD
BEGIN:DAYLIGHT
TZOFFSETFROM:-0600
TZOFFSETTO:-0500
TZNAME:CDT
DTSTART:20220313T080000
END:DAYLIGHT
BEGIN:STANDARD
TZOFFSETFROM:-0500
TZOFFSETTO:-0600
TZNAME:CST
DTSTART:20221106T070000
END:STANDARD
BEGIN:DAYLIGHT
TZOFFSETFROM:-0600
TZOFFSETTO:-0500
TZNAME:CDT
DTSTART:20230312T080000
END:DAYLIGHT
BEGIN:STANDARD
TZOFFSETFROM:-0500
TZOFFSETTO:-0600
TZNAME:CST
DTSTART:20231105T070000
END:STANDARD
END:VTIMEZONE
BEGIN:VEVENT
DTSTART;VALUE=DATE:20220716
DTEND;VALUE=DATE:20220728
DTSTAMP:20260423T201218
CREATED:20201218T181435Z
LAST-MODIFIED:20201218T181435Z
UID:1100-1657929600-1658966399@troybmarden.com
SUMMARY:Castles and Gardens of Northern Wales & Scotland--July 16-27\, 2022
DESCRIPTION:Rescheduled from 2020 to 2021\, reservations are now open to fill the remaining spaces on what will be a spectacular tour of Northern Wales and the southern half of Scotland. We will explore the northern coast and part of the interior of Wales before turning our private coach north and driving first to Glasgow and finally to Edinburgh. Some highlights include: Arley Hall & Gardens\, Powis Castle\, Portmeirion\, Bodnant Gardens\, Threave Garden\, Culzean Castle\, Logan Botanic Garden\, Abbotsford\, and Carolside (a stunning private garden). An optional 3-day\, 2-night extension to Inverness will include visits to at least two well-known Scotch distilleries. \nCost: $4\,250 per person\, double occupancy\, ground only \nSingle Supplement: $850.00 \nOptional Extension to Inverness: $1\,250.00 per person\, double occupancy \nFor More Information or to make your reservations: troy@troybmarden.com
URL:https://troybmarden.com/event/castles-and-gardens-of-northern-wales-scotland-august-11-22-2021/
CATEGORIES:Travel,Wales Scotland
ATTACH;FMTTYPE=image/png:https://troybmarden.com/wp-content/uploads/2020/12/Wales-Photo.png
END:VEVENT
END:VCALENDAR